BEGIN:VCALENDAR
VERSION:2.0
PRODID:-//wp-events-plugin.com//7.2.3.1//EN
BEGIN:VEVENT
UID:30@coupdesoleil-rhonealpes.fr
DTSTART:20250410T170000Z
DTEND:20250410T190000Z
DTSTAMP:20250331T150300Z
URL:https://www.coupdesoleil-rhonealpes.fr/evenements/discussion-place-du-
 sergent-blandan
SUMMARY:Discussion place du Sergent Blandan
DESCRIPTION:Table Ronde sur le sergent Blandan
LOCATION:Mairie de Lyon 01\, 2 Place Sathonay\, Lyon 01\, 69001\, France
X-APPLE-STRUCTURED-LOCATION;VALUE=URI;X-ADDRESS=2 Place Sathonay\, Lyon 01\
 , 69001\, France;X-APPLE-RADIUS=100;X-TITLE=Mairie de Lyon 01:geo:0,0
END:VEVENT
END:VCALENDAR