BEGIN:VCALENDAR
VERSION:2.0
PRODID:-//wp-events-plugin.com//7.2.3.1//EN
BEGIN:VEVENT
UID:4@coupdesoleil-rhonealpes.fr
DTSTART:20240122T173000Z
DTEND:20240122T193000Z
DTSTAMP:20240111T153415Z
URL:https://www.coupdesoleil-rhonealpes.fr/evenements/eclats-de-silence-de
 -omar-hallouche-a-la-mairie-du-1er-lyon
SUMMARY:Conférence Omar Hallouche
DESCRIPTION:\n\nOmar Hallouche  écrivain lyonnais donne  la parole  aux
  émigrés de la première génération  dans  son d ernier ouvrage Ecla
 ts de silence.\n\n&nbsp\;\nLivre sur le silence des émigrés\n&nbsp\;\n\n
 Echanges autour du livre « Eclats de silence » d’Omar Hallouche le 2
 2 janvier à Lyon – Coup de soleil en Auvergne-Rhône-Alpes (coupdesolei
 l-rhonealpes.fr)\n\n&nbsp\;
LOCATION:Mairie  du  1er arrondissement   Lyon 69001\, place Sathonay\, Lyo
 n\, Rhône\, 69001\, France
X-APPLE-STRUCTURED-LOCATION;VALUE=URI;X-ADDRESS=place Sathonay\, Lyon\, Rh
 ône\, 69001\, France;X-APPLE-RADIUS=100;X-TITLE=Mairie  du  1er arrondiss
 ement   Lyon 69001:geo:0,0
END:VEVENT
END:VCALENDAR