BEGIN:VCALENDAR
VERSION:2.0
PRODID:-//wp-events-plugin.com//7.2.3.1//EN
BEGIN:VEVENT
UID:5@coupdesoleil-rhonealpes.fr
DTSTART:20240116T173000Z
DTEND:20240116T193000Z
DTSTAMP:20240111T152131Z
URL:https://www.coupdesoleil-rhonealpes.fr/evenements/film-de-la-conquete
SUMMARY:Film: De  La Conquête
DESCRIPTION:Projection  du film De La Conquête  de  la réalisatrice  
 Françoise Prenant au Cinéma Opéra
LOCATION:Cinéma  Opera\, 6\, rue  Joseph Serlin\, Lyon\, Rhône\, 69001\, 
 France
X-APPLE-STRUCTURED-LOCATION;VALUE=URI;X-ADDRESS=6\, rue  Joseph Serlin\, Ly
 on\, Rhône\, 69001\, France;X-APPLE-RADIUS=100;X-TITLE=Cinéma  Opera:geo
 :0,0
END:VEVENT
END:VCALENDAR