BEGIN:VCALENDAR
VERSION:2.0
PRODID:-//wp-events-plugin.com//7.2.3.1//EN
BEGIN:VEVENT
UID:21@coupdesoleil-rhonealpes.fr
DTSTART:20240524T190000Z
DTEND:20240524T210000Z
DTSTAMP:20240418T143922Z
URL:https://www.coupdesoleil-rhonealpes.fr/evenements/film-indivision-avec
 -la-realisatrice-leila-kilani
SUMMARY:Film "Indivision" avec la réalisatrice Leila Kilani
DESCRIPTION:
END:VEVENT
END:VCALENDAR