BEGIN:VCALENDAR
VERSION:2.0
PRODID:-//wp-events-plugin.com//7.2.3.1//EN
BEGIN:VEVENT
UID:3@coupdesoleil-rhonealpes.fr
DTSTART:20220607T190000Z
DTEND:20220607T190000Z
DTSTAMP:20220606T140056Z
URL:https://www.coupdesoleil-rhonealpes.fr/evenements/film-les-visages-de-
 la-victoire-lyece-boukhitini
SUMMARY:Film "Les visages de la victoire" - Lyèce Boukhitini
DESCRIPTION:
END:VEVENT
END:VCALENDAR