BEGIN:VCALENDAR
VERSION:2.0
PRODID:-//wp-events-plugin.com//7.2.3.1//EN
BEGIN:VEVENT
UID:14@coupdesoleil-rhonealpes.fr
DTSTART:20240506T180000Z
DTEND:20240506T210000Z
DTSTAMP:20240418T141601Z
URL:https://www.coupdesoleil-rhonealpes.fr/evenements/film-marin-des-monta
 gnes
SUMMARY:Film "Marin des montagnes"
DESCRIPTION:&nbsp\;\n\n&nbsp\;
END:VEVENT
END:VCALENDAR