BEGIN:VCALENDAR
VERSION:2.0
PRODID:-//wp-events-plugin.com//7.2.3.1//EN
BEGIN:VEVENT
UID:33@coupdesoleil-rhonealpes.fr
DTSTART:20250412T090000Z
DTEND:20250412T110000Z
DTSTAMP:20250331T151504Z
URL:https://www.coupdesoleil-rhonealpes.fr/evenements/inauguration-de-lesp
 lanade-du-19-mars-1962-a-lyon
SUMMARY:Inauguration de l'Esplanade du 19 mars 1962 à Lyon
DESCRIPTION:Participation à l'inauguration de l'Esplanade du 19 mars 1962 
 à Lyon avec la participation de plusieurs collèges et lycées sur un tra
 vail concernant des lectures de textes en lien avec la période abordé.
END:VEVENT
END:VCALENDAR