BEGIN:VCALENDAR
VERSION:2.0
PRODID:-//wp-events-plugin.com//7.2.3.1//EN
BEGIN:VEVENT
UID:34@coupdesoleil-rhonealpes.fr
DTSTART:20250417T123000Z
DTEND:20250417T153000Z
DTSTAMP:20250331T152102Z
URL:https://www.coupdesoleil-rhonealpes.fr/evenements/intervention-de-memo
 ires-croises
SUMMARY:Intervention de mémoires croisés
DESCRIPTION:Intervention de mémoires croisés de la guerre d'Algérie.\n\n
 Ce jours nous retrouverons pour la mémoire Pied-Noir : Michel Wilson\, po
 ur la mémoire Harki : Saïd Merabti\, pour la mémoire indépendantiste :
  Amenna Ameziane et pour finir avec la mémoire appelé : René Oddou.
LOCATION:Collège Colette à Saint-Priest\, 28 Rue Colette\, Saint-Priest\,
  69800\, France
X-APPLE-STRUCTURED-LOCATION;VALUE=URI;X-ADDRESS=28 Rue Colette\, Saint-Prie
 st\, 69800\, France;X-APPLE-RADIUS=100;X-TITLE=Collège Colette à Saint-P
 riest:geo:0,0
END:VEVENT
END:VCALENDAR