BEGIN:VCALENDAR
VERSION:2.0
PRODID:-//wp-events-plugin.com//7.2.3.1//EN
BEGIN:VEVENT
UID:19@coupdesoleil-rhonealpes.fr
DTSTART:20240521T130000Z
DTEND:20240521T150000Z
DTSTAMP:20240418T143607Z
URL:https://www.coupdesoleil-rhonealpes.fr/evenements/intervention-memoire
 s-cite-scolaire-internationale
SUMMARY:Intervention Mémoires Cité Scolaire internationale
DESCRIPTION:
END:VEVENT
END:VCALENDAR