BEGIN:VCALENDAR
VERSION:2.0
PRODID:-//wp-events-plugin.com//7.2.3.1//EN
BEGIN:VEVENT
UID:23@coupdesoleil-rhonealpes.fr
DTSTART:20240430T130000Z
DTEND:20240430T150000Z
DTSTAMP:20240418T144205Z
URL:https://www.coupdesoleil-rhonealpes.fr/evenements/intervention-memoire
 s-college-paul-emile-victor
SUMMARY:Intervention Mémoires Collège Paul Emile Victor
DESCRIPTION:
END:VEVENT
END:VCALENDAR