BEGIN:VCALENDAR
VERSION:2.0
PRODID:-//wp-events-plugin.com//7.2.3.1//EN
BEGIN:VEVENT
UID:35@coupdesoleil-rhonealpes.fr
DTSTART;VALUE=DATE:20250418
DTEND;VALUE=DATE:20250419
DTSTAMP:20250331T152735Z
URL:https://www.coupdesoleil-rhonealpes.fr/evenements/intervention-memoire
 s-croises-guerre-dalgerie
SUMMARY:Intervention mémoires croisés guerre d'Algérie
DESCRIPTION:Intervention de mémoires croisés ce jour nous aurons le témo
 ignage de Michel Wilson pour la mémoire Pied-Noir\, le témoignage de Sa
 ïd Merabti pour la mémoire Harki\, le témoignage de Amenna Ameziane pou
 r pour la mémoire indépendantiste\, et pour finir le témoignage de Ren
 é Oddou pour la mémoire des appelés.
LOCATION:Collège Jean-Jaurès de Villeurbanne\, 54 Rue Jean-Jaurès\, Vill
 eurbanne\, 69100\, France
X-APPLE-STRUCTURED-LOCATION;VALUE=URI;X-ADDRESS=54 Rue Jean-Jaurès\, Ville
 urbanne\, 69100\, France;X-APPLE-RADIUS=100;X-TITLE=Collège Jean-Jaurès 
 de Villeurbanne:geo:0,0
END:VEVENT
END:VCALENDAR