BEGIN:VCALENDAR
VERSION:2.0
PRODID:-//wp-events-plugin.com//7.2.3.1//EN
BEGIN:VEVENT
UID:12@coupdesoleil-rhonealpes.fr
DTSTART:20240430T080000Z
DTEND:20240430T110000Z
DTSTAMP:20240418T141149Z
URL:https://www.coupdesoleil-rhonealpes.fr/evenements/intervention-memoire
 s-de-la-guerre-dalgerie-2
SUMMARY:Intervention Mémoires de la guerre d'Algérie
DESCRIPTION:
END:VEVENT
END:VCALENDAR