BEGIN:VCALENDAR
VERSION:2.0
PRODID:-//wp-events-plugin.com//7.2.3.1//EN
BEGIN:VEVENT
UID:15@coupdesoleil-rhonealpes.fr
DTSTART:20240507T090000Z
DTEND:20240507T110000Z
DTSTAMP:20240418T141721Z
URL:https://www.coupdesoleil-rhonealpes.fr/evenements/intervention-memoire
 s-lycee-helene-boucher
SUMMARY:Intervention Mémoires Lycée Hélène Boucher
DESCRIPTION:
END:VEVENT
END:VCALENDAR