BEGIN:VCALENDAR
VERSION:2.0
PRODID:-//wp-events-plugin.com//7.2.3.1//EN
BEGIN:VEVENT
UID:17@coupdesoleil-rhonealpes.fr
DTSTART:20240514T130000Z
DTEND:20240514T150000Z
DTSTAMP:20240418T143316Z
URL:https://www.coupdesoleil-rhonealpes.fr/evenements/intervention-memoire
 s-lycee-jacques-brel
SUMMARY:Intervention Mémoires Lycée Jacques Brel
DESCRIPTION:
END:VEVENT
END:VCALENDAR