BEGIN:VCALENDAR
VERSION:2.0
PRODID:-//wp-events-plugin.com//7.2.3.1//EN
BEGIN:VEVENT
UID:16@coupdesoleil-rhonealpes.fr
DTSTART:20240507T130000Z
DTEND:20240507T150000Z
DTSTAMP:20240418T142338Z
URL:https://www.coupdesoleil-rhonealpes.fr/evenements/intervention-memoire
 s-lycee-tony-garnier
SUMMARY:Intervention Mémoires Lycée Tony Garnier
DESCRIPTION:
END:VEVENT
END:VCALENDAR