BEGIN:VCALENDAR
VERSION:2.0
PRODID:-//wp-events-plugin.com//7.2.3.1//EN
BEGIN:VEVENT
UID:13@coupdesoleil-rhonealpes.fr
DTSTART:20240502T073000Z
DTEND:20240502T143000Z
DTSTAMP:20240418T141343Z
URL:https://www.coupdesoleil-rhonealpes.fr/evenements/intervention-sur-les
 -memoires-avec-intervention-de-paul-max-morin
SUMMARY:Intervention sur les Mémoires Lycée Saint Exupery
DESCRIPTION:
END:VEVENT
END:VCALENDAR