BEGIN:VCALENDAR
VERSION:2.0
PRODID:-//wp-events-plugin.com//7.2.3.1//EN
BEGIN:VEVENT
UID:25@coupdesoleil-rhonealpes.fr
DTSTART:20240503T073000Z
DTEND:20240503T143000Z
DTSTAMP:20240418T144954Z
URL:https://www.coupdesoleil-rhonealpes.fr/evenements/intervention-sur-les
 -memoires-lycee-antoine-saint-exupery
SUMMARY:Intervention sur les Mémoires Lycée Antoine Saint Exupery
DESCRIPTION:
END:VEVENT
END:VCALENDAR