BEGIN:VCALENDAR
VERSION:2.0
PRODID:-//wp-events-plugin.com//7.2.3.1//EN
BEGIN:VEVENT
UID:27@coupdesoleil-rhonealpes.fr
DTSTART:20250404T123000Z
DTEND:20250404T153000Z
DTSTAMP:20250331T125959Z
URL:https://www.coupdesoleil-rhonealpes.fr/evenements/interventions-des-me
 moires-croisees-de-la-guerre-dalgerie
SUMMARY:Interventions des mémoires croisées de la Guerre d'Algérie
DESCRIPTION:Intervention des mémoires croisés\, avec la participation pou
 r la mémoire Pied-Noir de Marie Jeanne Verchera\, Michel Wilson. Pour la 
 mémoire indépendantiste Alloua Bakah. Pour la mémoire d'Appelé René O
 ddou. Nous comptons aussi pour la mémoire Harki potentiellement\, Amar As
 sas pour une visio conférence.
LOCATION:Lycée Francois Mauriac\, 26 Rue des Bulieux\, Andrézieux-Bouthé
 on\, 42160\, Forez\, France
X-APPLE-STRUCTURED-LOCATION;VALUE=URI;X-ADDRESS=26 Rue des Bulieux\, André
 zieux-Bouthéon\, 42160\, Forez\, France;X-APPLE-RADIUS=100;X-TITLE=Lycée
  Francois Mauriac:geo:0,0
END:VEVENT
END:VCALENDAR