BEGIN:VCALENDAR
VERSION:2.0
PRODID:-//wp-events-plugin.com//7.2.3.1//EN
BEGIN:VEVENT
UID:28@coupdesoleil-rhonealpes.fr
DTSTART;VALUE=DATE:20250408
DTEND;VALUE=DATE:20250409
DTSTAMP:20250331T145012Z
URL:https://www.coupdesoleil-rhonealpes.fr/evenements/interventions-memoir
 es-croisees
SUMMARY:Interventions mémoires croisées
DESCRIPTION:Pour la mémoire Pied-Noir sera présent : Marie-Jeanne et Mich
 el Wilson\, pour la mémoire des Harki : Saïd Merabti\, pour la mémoire 
 indépendantiste : Amenna Ameziane et pour la mémoire appelé : René Odd
 ou.
LOCATION:Collège Elsa Triolet\, 03 Avenue division Leclerc \, Venissieux\,
  69200\, France
X-APPLE-STRUCTURED-LOCATION;VALUE=URI;X-ADDRESS=03 Avenue division Leclerc 
 \, Venissieux\, 69200\, France;X-APPLE-RADIUS=100;X-TITLE=Collège Elsa Tr
 iolet:geo:0,0
END:VEVENT
END:VCALENDAR