BEGIN:VCALENDAR
VERSION:2.0
PRODID:-//wp-events-plugin.com//7.2.3.1//EN
BEGIN:VEVENT
UID:6@coupdesoleil-rhonealpes.fr
DTSTART:20240119T090000Z
DTEND:20240119T110000Z
DTSTAMP:20240111T153913Z
URL:https://www.coupdesoleil-rhonealpes.fr/evenements/memoires-croisees
SUMMARY:Mémoires  croisées
DESCRIPTION:Intervention des témoins  de la guerre d'Algérie au lycée 
  Aragon Givors\n\n&nbsp\;
END:VEVENT
END:VCALENDAR