BEGIN:VCALENDAR
VERSION:2.0
PRODID:-//wp-events-plugin.com//7.2.3.1//EN
BEGIN:VEVENT
UID:8@coupdesoleil-rhonealpes.fr
DTSTART:20240406T170000Z
DTEND:20240406T230000Z
DTSTAMP:20240410T180344Z
URL:https://www.coupdesoleil-rhonealpes.fr/evenements/nuit-du-cinema-maroc
 ain
SUMMARY:Nuit du cinéma marocain
DESCRIPTION:
END:VEVENT
END:VCALENDAR