BEGIN:VCALENDAR
VERSION:2.0
PRODID:-//wp-events-plugin.com//7.2.3.1//EN
BEGIN:VEVENT
UID:32@coupdesoleil-rhonealpes.fr
DTSTART:20250410T230000Z
DTEND:20250410T230000Z
DTSTAMP:20250331T155046Z
URL:https://www.coupdesoleil-rhonealpes.fr/evenements/participation-evenem
 ent-accord-devian
SUMMARY:Participation évènement "Accords d'Evian"
DESCRIPTION:Participation à la table ronde sur la signature des accords d'
 Evian et le cessez le feu 18 et 19 mars 1962
END:VEVENT
END:VCALENDAR