BEGIN:VCALENDAR
VERSION:2.0
PRODID:-//wp-events-plugin.com//7.2.3.1//EN
BEGIN:VEVENT
UID:31@coupdesoleil-rhonealpes.fr
DTSTART;VALUE=DATE:20250411
DTEND;VALUE=DATE:20250412
DTSTAMP:20250331T150652Z
URL:https://www.coupdesoleil-rhonealpes.fr/evenements/participation-journe
 e-detude-femme-de-lettre-arabes-dhier-a-aujourdhui
SUMMARY:Participation journée d'étude "Femme de lettre arabes d'hier à a
 ujourd'hui"
DESCRIPTION:Présence de Maya Oubadi\, directrices des éditions algérienn
 es "Motifs"
END:VEVENT
END:VCALENDAR