BEGIN:VCALENDAR
VERSION:2.0
PRODID:-//wp-events-plugin.com//7.2.3.1//EN
BEGIN:VEVENT
UID:7@coupdesoleil-rhonealpes.fr
DTSTART:20240415T193000Z
DTEND:20240415T213000Z
DTSTAMP:20240406T082451Z
URL:https://www.coupdesoleil-rhonealpes.fr/evenements/projection-du-film-m
 arin-des-montagnes-a-lyon-lumiere-terreaux-le-15-avril
SUMMARY:Projection du film Marin des montagnes à Lyon (Lumière Terreaux l
 e 15 avril
DESCRIPTION:Coup de Soleil de Auvergne Rhône-Alpes est partenaire du distr
 ibuteur de ce film Les films des deux rives \, pour aider à faire décou
 vrir ce beau film à un maximum de spectateurs et spectatrices.\nCette ava
 nt première programmée par le cinéma Lumières Terreaux lance cette sé
 rie de représentations dans notre région.\n&nbsp\;\n\n&nbsp\;\n\n\n\n
END:VEVENT
END:VCALENDAR