BEGIN:VCALENDAR
VERSION:2.0
PRODID:-//wp-events-plugin.com//7.2.3.1//EN
BEGIN:VEVENT
UID:9@coupdesoleil-rhonealpes.fr
DTSTART:20240420T170000Z
DTEND:20240420T190000Z
DTSTAMP:20240418T140820Z
URL:https://www.coupdesoleil-rhonealpes.fr/evenements/rencontre-autour-du-
 livre-sens-de-rabah-ait-oufellal
SUMMARY:Rencontre autour du livre "Sens" de Rabah Ait Oufellal
DESCRIPTION:
END:VEVENT
END:VCALENDAR