BEGIN:VCALENDAR
VERSION:2.0
PRODID:-//wp-events-plugin.com//7.2.3.1//EN
BEGIN:VEVENT
UID:29@coupdesoleil-rhonealpes.fr
DTSTART:20250410T170000Z
DTEND:20250410T190000Z
DTSTAMP:20250331T145529Z
URL:https://www.coupdesoleil-rhonealpes.fr/evenements/rencontre-avec-les-e
 ditrices-algeriennes-de-la-revue-feministe-la-place
SUMMARY:Rencontre avec les éditrices algériennes de la Revue féministe "
 La Place"
DESCRIPTION:
LOCATION:Bibliothèque du centre ville de Grenoble\, 10 Rue de la Républiq
 ue \, Grenoble \, 38000\, France
X-APPLE-STRUCTURED-LOCATION;VALUE=URI;X-ADDRESS=10 Rue de la République \,
  Grenoble \, 38000\, France;X-APPLE-RADIUS=100;X-TITLE=Bibliothèque du ce
 ntre ville de Grenoble:geo:0,0
END:VEVENT
END:VCALENDAR