BEGIN:VCALENDAR
VERSION:2.0
PRODID:-//wp-events-plugin.com//7.2.3.1//EN
BEGIN:VEVENT
UID:18@coupdesoleil-rhonealpes.fr
DTSTART:20240515T090000Z
DTEND:20240515T150000Z
DTSTAMP:20240418T143403Z
URL:https://www.coupdesoleil-rhonealpes.fr/evenements/seminaire-college-ec
 o-citoyen
SUMMARY:Séminaire Collège éco-citoyen
DESCRIPTION:
END:VEVENT
END:VCALENDAR