BEGIN:VCALENDAR
VERSION:2.0
PRODID:-//wp-events-plugin.com//7.2.3.1//EN
BEGIN:VEVENT
UID:10@coupdesoleil-rhonealpes.fr
DTSTART:20240425T170000Z
DTEND:20240425T190000Z
DTSTAMP:20240418T140920Z
URL:https://www.coupdesoleil-rhonealpes.fr/evenements/vernissage-de-lexpos
 ition-de-farid-chaaachoua
SUMMARY:Vernissage de l'exposition de Farid Chaaachoua
DESCRIPTION:
END:VEVENT
END:VCALENDAR