BEGIN:VCALENDAR
VERSION:2.0
PRODID:-//wp-events-plugin.com//7.2.3.1//EN
BEGIN:VEVENT
UID:20@coupdesoleil-rhonealpes.fr
DTSTART:20240524T150000Z
DTEND:20240524T180000Z
DTSTAMP:20240418T143703Z
URL:https://www.coupdesoleil-rhonealpes.fr/evenements/vernissage-de-lexpos
 ition-de-photo-des-eleves-du-lycee-pierre-brossolette
SUMMARY:Vernissage de l'exposition de photo des élèves du lycée Pierre B
 rossolette
DESCRIPTION:
END:VEVENT
END:VCALENDAR